BEGIN:VCALENDAR
VERSION:2.0
PRODID:-//ChamberMaster//Event Calendar 2.0//EN
METHOD:PUBLISH
X-PUBLISHED-TTL:P3D
REFRESH-INTERVAL:P3D
CALSCALE:GREGORIAN
BEGIN:VEVENT
DTSTART:20151224T020000Z
DTEND:20151224T040000Z
X-MICROSOFT-CDO-ALLDAYEVENT:FALSE
SUMMARY:Night Hike with Santa
DESCRIPTION:Join us for a night adventure full of Christmas cheer and nature discovery as we embark on a 2-hour journey searching for nocturnal creatures with Santa.  We will discover owls\, scorpions\, tarantulas and more on our journey.  Regular entrance fees apply.
X-ALT-DESC;FMTTYPE=text/html:Join us for a night adventure full of Christmas cheer and nature discovery as we embark on a 2-hour journey searching for nocturnal creatures with Santa. &nbsp\;We will discover owls\, scorpions\, tarantulas and more on our journey. &nbsp\;Regular entrance fees apply.&nbsp\;
LOCATION:Estero Llano Grande State Park 3301 S. International
UID:e.1244.9066
SEQUENCE:3
DTSTAMP:20260423T065302Z
URL:https://business.weslaco.com/events/details/night-hike-with-santa-12-23-2015-9066
END:VEVENT

END:VCALENDAR
