BEGIN:VCALENDAR
VERSION:2.0
PRODID:-//ChamberMaster//Event Calendar 2.0//EN
METHOD:PUBLISH
X-PUBLISHED-TTL:P3D
REFRESH-INTERVAL:P3D
CALSCALE:GREGORIAN
BEGIN:VEVENT
DTSTART:20160207T010000Z
DTEND:20160207T040000Z
X-MICROSOFT-CDO-ALLDAYEVENT:FALSE
SUMMARY:Noche De Arte at VNC
DESCRIPTION:Join us for a night of good food and libations\, beautiful artwork\, and a chance to create your own masterpiece with Sip&Dip!
X-ALT-DESC;FMTTYPE=text/html:Join us for a night of good food and libations\, beautiful artwork\, and a chance to create your own masterpiece with Sip&amp\;Dip!
LOCATION:Valley Nature Center 301 S. Border Avenue Weslaco\, Texas 78596
UID:e.1244.9088
SEQUENCE:3
DTSTAMP:20260423T040422Z
URL:https://business.weslaco.com/events/details/noche-de-arte-at-vnc-02-06-2016-9088
END:VEVENT

END:VCALENDAR
