BEGIN:VCALENDAR
VERSION:2.0
PRODID:-//ChamberMaster//Event Calendar 2.0//EN
METHOD:PUBLISH
X-PUBLISHED-TTL:P3D
REFRESH-INTERVAL:P3D
CALSCALE:GREGORIAN
BEGIN:VEVENT
DTSTART:20181013T230000Z
DTEND:20181014T010000Z
X-MICROSOFT-CDO-ALLDAYEVENT:FALSE
SUMMARY:Noche de Fiesta at Highland Memorial Park & Funeral Home
DESCRIPTION:Celebrating National Hispanic Heritage Month! FREE to the public! They'll have food and beverages\, games for the kids and loteria!
X-ALT-DESC;FMTTYPE=text/html:Celebrating National Hispanic Heritage Month! FREE to the public! They&#39\;ll have food and beverages\, games for the kids and loteria!
LOCATION:Highland Memorial Park & Funeral Home 6705 N FM 88 Weslaco\, TX 78599
UID:e.1244.16992
SEQUENCE:3
DTSTAMP:20260420T232738Z
URL:https://business.weslaco.com/events/details/noche-de-fiesta-at-highland-memorial-park-funeral-home-16992
END:VEVENT

END:VCALENDAR
