BEGIN:VCALENDAR
VERSION:2.0
PRODID:-//ChamberMaster//Event Calendar 2.0//EN
METHOD:PUBLISH
X-PUBLISHED-TTL:P3D
REFRESH-INTERVAL:P3D
CALSCALE:GREGORIAN
BEGIN:VEVENT
DTSTART:20190723T150000Z
DTEND:20190723T160000Z
X-MICROSOFT-CDO-ALLDAYEVENT:FALSE
SUMMARY:North Side Park Groundbreaking Ceremony
DESCRIPTION:The City of Weslaco and the Honorable Mayor David Suarez invite you to the North Side Park Groundbreaking Ceremony.
X-ALT-DESC;FMTTYPE=text/html:The City of Weslaco and the Honorable Mayor David Suarez invite you to the North Side Park Groundbreaking Ceremony.&nbsp\;
LOCATION:320 E. Mile 11 Rd. Weslaco
UID:e.1244.18714
SEQUENCE:3
DTSTAMP:20260420T080137Z
URL:https://business.weslaco.com/events/details/north-side-park-groundbreaking-ceremony-18714
END:VEVENT

END:VCALENDAR
