BEGIN:VCALENDAR
VERSION:2.0
PRODID:-//ChamberMaster//Event Calendar 2.0//EN
METHOD:PUBLISH
X-PUBLISHED-TTL:P3D
REFRESH-INTERVAL:P3D
CALSCALE:GREGORIAN
BEGIN:VEVENT
DTSTART:20161207T210000Z
DTEND:20161207T230000Z
X-MICROSOFT-CDO-ALLDAYEVENT:FALSE
SUMMARY:Olive Garden Job Fair
DESCRIPTION:Olive Garden will be hosting a job fair and open house.  They're looking to hire for all positions! Management will be on hand conducting interviews\,and they will be hiring on-the-spot. Qualified candidates can start as early as the next day.
X-ALT-DESC;FMTTYPE=text/html:Olive Garden will be hosting a job fair and open house.&nbsp\; They&#39\;re looking to hire for all positions! Management will be on hand conducting interviews\,and they will be hiring on-the-spot. Qualified candidates can start as early as the next day.
LOCATION:Olive Garden Weslaco 801 E. Expressway 83
UID:e.1244.11491
SEQUENCE:3
DTSTAMP:20260422T115055Z
URL:https://business.weslaco.com/events/details/olive-garden-job-fair-11491
END:VEVENT

END:VCALENDAR
