BEGIN:VCALENDAR
VERSION:2.0
PRODID:-//ChamberMaster//Event Calendar 2.0//EN
METHOD:PUBLISH
X-PUBLISHED-TTL:P3D
REFRESH-INTERVAL:P3D
CALSCALE:GREGORIAN
BEGIN:VEVENT
DTSTART:20200615T223000Z
DTEND:20200615T233000Z
X-MICROSOFT-CDO-ALLDAYEVENT:FALSE
SUMMARY:OLLU Virtual Information Session - Master of Science in Business Analytics
DESCRIPTION:The Master of Science degree in Business Analytics relies heavily upon the theory and applications of computer programming\, economics\, finance\, information management\, marketing\, statistics and operations research to integrate business strategy with various aspects of data science. \n\nThis program provides students with a level of analytical insight into the economic behaviors of individuals and organizations\, which enhances the business's reach in terms of strategy and positioning.
X-ALT-DESC;FMTTYPE=text/html:The Master of Science degree in Business Analytics relies heavily upon the theory and applications of computer programming\, economics\, finance\, information management\, marketing\, statistics and operations research to integrate business strategy with various aspects of data science.&nbsp\;<br />\nThis program provides students with a level of analytical insight into the economic behaviors of individuals and organizations\, which enhances the business&#39\;s reach in terms of strategy and positioning.
LOCATION:www.ollusa.edu/GradInfoSession
UID:e.1244.19395
SEQUENCE:3
DTSTAMP:20260419T142058Z
URL:https://business.weslaco.com/events/details/ollu-virtual-information-session-master-of-science-in-business-analytics-19395
END:VEVENT

END:VCALENDAR
