BEGIN:VCALENDAR
VERSION:2.0
PRODID:-//ChamberMaster//Event Calendar 2.0//EN
METHOD:PUBLISH
X-PUBLISHED-TTL:P3D
REFRESH-INTERVAL:P3D
CALSCALE:GREGORIAN
BEGIN:VEVENT
DTSTART:20210826T213000Z
DTEND:20210827T003000Z
X-MICROSOFT-CDO-ALLDAYEVENT:FALSE
SUMMARY:Open House – Victoria Palms Inn & Suites
DESCRIPTION:You're Invited! Please join us at Victoria Palms Inn & Suites hotel lobby this Thursday August 26th for our Open House. Enter a raffle to win a Free Room Night in one of our suites. We will be conducting guided tours of our ballroom and suites. See you there!
X-ALT-DESC;FMTTYPE=text/html:You&#39\;re Invited! Please join us at Victoria Palms Inn &amp\; Suites hotel lobby this Thursday August 26th for our Open House. Enter a raffle to win a Free Room Night in one of our suites. We will be conducting guided tours of our ballroom and suites. See you there!<br />\n
LOCATION:Victoria Palms Inn & Suites - Hotel Lobby
UID:e.1244.19760
SEQUENCE:3
DTSTAMP:20260422T084111Z
URL:https://business.weslaco.com/events/details/open-house-victoria-palms-inn-suites-19760
END:VEVENT

END:VCALENDAR
