BEGIN:VCALENDAR
VERSION:2.0
PRODID:-//ChamberMaster//Event Calendar 2.0//EN
METHOD:PUBLISH
X-PUBLISHED-TTL:P3D
REFRESH-INTERVAL:P3D
CALSCALE:GREGORIAN
BEGIN:VEVENT
DTSTART:20180206T163000Z
DTEND:20180206T180000Z
X-MICROSOFT-CDO-ALLDAYEVENT:FALSE
SUMMARY:Orphan Train Riders Presentation at Weslaco Museum
DESCRIPTION:An American story\, not recorded in our history books that dates back to 1853\, when as many as 200\,000 homeless and neglected children from New York City were moved west by train to rural towns and farm communities throughout 47 states.
X-ALT-DESC;FMTTYPE=text/html:An American story\, not recorded in our history books that dates back to 1853\, when as many as 200\,000 homeless and neglected children from New York City were moved west by train to rural towns and farm communities throughout 47 states.
LOCATION:Weslaco Museum 500 S. Kansas
UID:e.1244.14532
SEQUENCE:3
DTSTAMP:20260421T125107Z
URL:https://business.weslaco.com/events/details/orphan-train-riders-presentation-at-weslaco-museum-14532
END:VEVENT

END:VCALENDAR
