BEGIN:VCALENDAR
VERSION:2.0
PRODID:-//ChamberMaster//Event Calendar 2.0//EN
METHOD:PUBLISH
X-PUBLISHED-TTL:P3D
REFRESH-INTERVAL:P3D
CALSCALE:GREGORIAN
BEGIN:VEVENT
DTSTART:20180206T193000Z
DTEND:20180206T210000Z
X-MICROSOFT-CDO-ALLDAYEVENT:FALSE
SUMMARY:Orphan Train Riders Presentation at Weslaco Museum
DESCRIPTION:An American story\, not recorded in our history books that dates back to 1853\, when as many as 200\,000 homeless and neglected children from New York City were moved west by train to rural towns and farm communities throughout 47 states.
X-ALT-DESC;FMTTYPE=text/html:An American story\, not recorded in our history books that dates back to 1853\, when as many as 200\,000 homeless and neglected children from New York City were moved west by train to rural towns and farm communities throughout 47 states.
LOCATION:Weslaco Museum 500 S. Kansas
UID:e.1244.14534
SEQUENCE:3
DTSTAMP:20260421T141403Z
URL:https://business.weslaco.com/events/details/orphan-train-riders-presentation-at-weslaco-museum-14534
END:VEVENT

END:VCALENDAR
