BEGIN:VCALENDAR
VERSION:2.0
PRODID:-//ChamberMaster//Event Calendar 2.0//EN
METHOD:PUBLISH
X-PUBLISHED-TTL:P3D
REFRESH-INTERVAL:P3D
CALSCALE:GREGORIAN
BEGIN:VEVENT
DTSTART:20190917T163000Z
DTEND:20190917T180000Z
X-MICROSOFT-CDO-ALLDAYEVENT:FALSE
SUMMARY:Our Lady of the Lake Lunch & Learn
DESCRIPTION:THE ART OF EFFECTIVE PRESENTATIONS\n\nPresenter: Dr. Bruce Rosenthal\, Dean of Our Lady of the Lake University School of Business and Leadership\n\nDr. Rosenthal has a long and varied career that has taken him to Tokyo\, the Mediterranean\, Philadelphia\, and Wall Street in New York. Fluent in Japanese\, Dr. Rosenthal worked for a Japanese automation manufacturer early in his career. After earning an MBA at Rutgers University in International Business\, Dr. Rosenthal worked for Merrill Lynch. He was subsequently hired by a division of Dow Jones and was responsible for working with Japanese and non-Japanese clients negotiating multinational deals.  After five years with the Dow Jones Tokyo Office\, Dr. Rosenthal moved his family to the Mediterranean where he ran his own business selling designs and artwork in Japan\, Southeast Asia and Europe. He moved with his family back to the U.S. where he became the director of the MBA program for the University of the Sciences in Philadelphia\, where he also earned his PhD in Health Policy. He has been an academic leader since 2003 and has helped four universities develop new\, innovative academic programs. He has been with OLLU since 2018.
X-ALT-DESC;FMTTYPE=text/html:THE ART OF EFFECTIVE PRESENTATIONS<br />\nPresenter: Dr. Bruce Rosenthal\, Dean of Our Lady of the Lake University School of Business and Leadership<br />\nDr. Rosenthal has a long and varied career that has taken him to Tokyo\, the Mediterranean\, Philadelphia\, and Wall Street in New York. Fluent in Japanese\, Dr. Rosenthal worked for a Japanese automation manufacturer early in his career. After earning an MBA at Rutgers University in International Business\, Dr. Rosenthal worked for Merrill Lynch. He was subsequently hired by a division of Dow Jones and was responsible for working with Japanese and non-Japanese clients negotiating multinational deals.&nbsp\; After five years with the Dow Jones Tokyo Office\, Dr. Rosenthal moved his family to the Mediterranean where he ran his own business selling designs and artwork in Japan\, Southeast Asia and Europe. He moved with his family back to the U.S. where he became the director of the MBA program for the University of the Sciences in Philadelphia\, where he also earned his PhD in Health Policy. He has been an academic leader since 2003 and has helped four universities develop new\, innovative academic programs. He has been with OLLU since 2018.
LOCATION:Our Lady of the Lake University Rio Grande Valley 1650 S. Main Street La Feria\, TX 78559
UID:e.1244.18745
SEQUENCE:3
DTSTAMP:20260420T062633Z
URL:https://business.weslaco.com/events/details/our-lady-of-the-lake-lunch-learn-18745
END:VEVENT

END:VCALENDAR
