BEGIN:VCALENDAR
VERSION:2.0
PRODID:-//ChamberMaster//Event Calendar 2.0//EN
METHOD:PUBLISH
X-PUBLISHED-TTL:P3D
REFRESH-INTERVAL:P3D
CALSCALE:GREGORIAN
BEGIN:VEVENT
DTSTART:20190917T230000Z
DTEND:20190918T003000Z
X-MICROSOFT-CDO-ALLDAYEVENT:FALSE
SUMMARY:Our Lady of the Lake Open House & Information Session
DESCRIPTION:Open House and Information Session\n\nOur Lady of the Lake University   Rio Grande Valley\n\n\n\nLearn more about their programs:\n\n              PhD in Leadership Studies\n\n              Master of Science in Organizational Leadership\n\n              Master of Social Work - Foundation or Advanced\n\n              Bachelor of Social Work\n\n              Bachelor of Arts in Criminology and Criminal Justice\n\n              Bachelor of Arts in Psychology\n\n              Bachelor of Arts in Multidisciplinary Studies\n\nMeet current students\, alumni and staff. Please feel free to bring a guest who also is interested in earning a degree.\n\n \n\nHave questions about the event or any of the degree programs? Call the OLLU-RGV Office of Admissions at 956-277-0146 or email rgv@ollusa.edu.\n\n\n\nRSVP HERE
X-ALT-DESC;FMTTYPE=text/html:Open House and Information Session<br />\nOur Lady of the Lake University &ndash\; Rio Grande Valley<br />\n<br />\nLearn more about their programs:<br />\n&bull\;&nbsp\;&nbsp\;&nbsp\;&nbsp\;&nbsp\;&nbsp\;&nbsp\;&nbsp\;&nbsp\;&nbsp\;&nbsp\;&nbsp\; PhD in Leadership Studies<br />\n&bull\;&nbsp\;&nbsp\;&nbsp\;&nbsp\;&nbsp\;&nbsp\;&nbsp\;&nbsp\;&nbsp\;&nbsp\;&nbsp\;&nbsp\; Master of Science in Organizational Leadership<br />\n&bull\;&nbsp\;&nbsp\;&nbsp\;&nbsp\;&nbsp\;&nbsp\;&nbsp\;&nbsp\;&nbsp\;&nbsp\;&nbsp\;&nbsp\; Master of Social Work - Foundation or Advanced<br />\n&bull\;&nbsp\;&nbsp\;&nbsp\;&nbsp\;&nbsp\;&nbsp\;&nbsp\;&nbsp\;&nbsp\;&nbsp\;&nbsp\;&nbsp\; Bachelor of Social Work<br />\n&bull\;&nbsp\;&nbsp\;&nbsp\;&nbsp\;&nbsp\;&nbsp\;&nbsp\;&nbsp\;&nbsp\;&nbsp\;&nbsp\;&nbsp\; Bachelor of Arts in Criminology and Criminal Justice<br />\n&bull\;&nbsp\;&nbsp\;&nbsp\;&nbsp\;&nbsp\;&nbsp\;&nbsp\;&nbsp\;&nbsp\;&nbsp\;&nbsp\;&nbsp\; Bachelor of Arts in Psychology<br />\n&bull\;&nbsp\;&nbsp\;&nbsp\;&nbsp\;&nbsp\;&nbsp\;&nbsp\;&nbsp\;&nbsp\;&nbsp\;&nbsp\;&nbsp\; Bachelor of Arts in Multidisciplinary Studies<br />\nMeet current students\, alumni and staff. Please feel free to bring a guest who also is interested in earning a degree.<br />\n&nbsp\;<br />\nHave questions about the event or any of the degree programs? Call the OLLU-RGV Office of Admissions at 956-277-0146 or email rgv@ollusa.edu.<br />\n<br />\n<a href="https://myapp.ollusa.edu/register/?id=44b2198b-63d7-4958-bbe0-a77b0a2e93e3">RSVP HERE</a>
LOCATION:1650 S. Main Street La Feria\, TX 78559
UID:e.1244.18744
SEQUENCE:3
DTSTAMP:20260420T044527Z
URL:https://business.weslaco.com/events/details/our-lady-of-the-lake-open-house-information-session-18744
END:VEVENT

END:VCALENDAR
