BEGIN:VCALENDAR
VERSION:2.0
PRODID:-//ChamberMaster//Event Calendar 2.0//EN
METHOD:PUBLISH
X-PUBLISHED-TTL:P3D
REFRESH-INTERVAL:P3D
CALSCALE:GREGORIAN
BEGIN:VEVENT
DTSTART:20151212T150000Z
DTEND:20151212T170000Z
X-MICROSOFT-CDO-ALLDAYEVENT:FALSE
SUMMARY:Our Lady of the Lake University Information Session
DESCRIPTION:Learn about leadership degrees OLLU of the RGV has to offer! PhD in Leadership Studies and Master of Science in Organizational Leadership.  Other Master's Degree programs include MBA in Business and MSW in Social Work.  Bachelor Degrees include Computer Information Systems and Security\, Criminology and Criminal Justice\, Psychology and Social Work.
X-ALT-DESC;FMTTYPE=text/html:Learn about leadership degrees OLLU&nbsp\;of the RGV has to offer! PhD in Leadership Studies and Master of Science in Organizational Leadership. &nbsp\;Other Master&#39\;s Degree programs include MBA in Business and MSW in Social Work. &nbsp\;Bachelor Degrees include Computer Information Systems and Security\, Criminology and Criminal Justice\, Psychology and Social Work.&nbsp\;
LOCATION:Our Lady of the Lake Rio Grande Valley 505 N. Villarreal La Feria\, TX 78559
UID:e.1244.9071
SEQUENCE:3
DTSTAMP:20260423T084608Z
URL:https://business.weslaco.com/events/details/our-lady-of-the-lake-university-information-session-12-12-2015-9071
END:VEVENT

END:VCALENDAR
