BEGIN:VCALENDAR
VERSION:2.0
PRODID:-//ChamberMaster//Event Calendar 2.0//EN
METHOD:PUBLISH
X-PUBLISHED-TTL:P3D
REFRESH-INTERVAL:P3D
CALSCALE:GREGORIAN
BEGIN:VEVENT
DTSTART:20170819T000000Z
DTEND:20170819T020000Z
X-MICROSOFT-CDO-ALLDAYEVENT:FALSE
SUMMARY:Outdoor Cooking at Estero Llano Grande State Park
DESCRIPTION:Bring your favorite camping snacks!
X-ALT-DESC;FMTTYPE=text/html:Bring your favorite camping snacks!
LOCATION:Estero Llano Grande State Park 3301 S. International Blvd.
UID:e.1244.12982
SEQUENCE:3
DTSTAMP:20260421T235155Z
URL:https://business.weslaco.com/events/details/outdoor-cooking-at-estero-llano-grande-state-park-12982
END:VEVENT

END:VCALENDAR
