BEGIN:VCALENDAR
VERSION:2.0
PRODID:-//ChamberMaster//Event Calendar 2.0//EN
METHOD:PUBLISH
X-PUBLISHED-TTL:P3D
REFRESH-INTERVAL:P3D
CALSCALE:GREGORIAN
BEGIN:VEVENT
DTSTART:20200111T190000Z
DTEND:20200111T210000Z
X-MICROSOFT-CDO-ALLDAYEVENT:FALSE
SUMMARY:Outdoor Cooking at Estero Llano Grande State Park
DESCRIPTION:Bring your own favorite camp snacks and gather around the fire! We'll show you how to start a campfire\, cook over a campfire\, and put out a campfire. Fire and stories around the fire on this Ranger-led night activity. Bring your own favorite camp snacks! Especially kid-friendly. Free with regular Park admission (adults $5\, children twelve-and-under free)
X-ALT-DESC;FMTTYPE=text/html:<span style="font-size:14px\;"><span style="font-family: Helvetica\, Arial\, sans-serif\; white-space: pre-wrap\;">Bring your own favorite camp snacks and gather around the fire! We&#39\;ll show you how to start a campfire\, cook over a campfire\, and put out a campfire. Fire and stories around the fire on this Ranger-led night activity. Bring your own favorite camp snacks! Especially kid-friendly. Free with regular Park admission (adults $5\, children twelve-and-under free)</span></span>
LOCATION:Estero Llano Grande State Park 3301 S. International Blvd.
UID:e.1244.19051
SEQUENCE:3
DTSTAMP:20260419T215421Z
URL:https://business.weslaco.com/events/details/outdoor-cooking-at-estero-llano-grande-state-park-19051
END:VEVENT

END:VCALENDAR
