BEGIN:VCALENDAR
VERSION:2.0
PRODID:-//ChamberMaster//Event Calendar 2.0//EN
METHOD:PUBLISH
X-PUBLISHED-TTL:P3D
REFRESH-INTERVAL:P3D
CALSCALE:GREGORIAN
BEGIN:VEVENT
DTSTART:20190917T153000Z
DTEND:20190917T163000Z
X-MICROSOFT-CDO-ALLDAYEVENT:FALSE
SUMMARY:Parent/Child Workshops at Mayor Joe V. Sanchez Library
DESCRIPTION:Free workshops for parents and children 0-3 years of age. Registration is limited and required. Call 956-968-4533.
X-ALT-DESC;FMTTYPE=text/html:Free workshops for parents and children 0-3 years of age. Registration is limited and required. Call 956-968-4533.&nbsp\;
LOCATION:Mayor Joe V. Sanchez Public Library 525 S. Kansas Ave.
UID:e.1244.18742
SEQUENCE:3
DTSTAMP:20260420T062612Z
URL:https://business.weslaco.com/events/details/parent-child-workshops-at-mayor-joe-v-sanchez-library-09-17-2019-18742
END:VEVENT

END:VCALENDAR
