BEGIN:VCALENDAR
VERSION:2.0
PRODID:-//ChamberMaster//Event Calendar 2.0//EN
METHOD:PUBLISH
X-PUBLISHED-TTL:P3D
REFRESH-INTERVAL:P3D
CALSCALE:GREGORIAN
BEGIN:VEVENT
DTSTART:20210421T150000Z
DTEND:20210421T170000Z
X-MICROSOFT-CDO-ALLDAYEVENT:FALSE
SUMMARY:Payroll Compliance
DESCRIPTION:REGISTRATION LINK:\n\nhttps://utsa.ecenterdirect.com/events/32453\n\nWEBINAR DESCRIPTION:\n\nAre you planning to hire employees?\n\nHiring employees involves more than just signing a paycheck. Before hiring employees\, business owners must understand and prepare for the additional obligations that come with being an employer. This workshop sheds light on the compliance requirements of payroll.\n\nWorkshop Highlights:\n\n-Steps to meeting general State and Federal requirements\n\n-Laws and types of payroll taxes business owners must pay\n\n-Contact information for the different agencies that govern payroll taxes\n\n-Helpful resources\n\nThis workshop is presented by a Business & HR Advisor with the UTRGV Small Business Development Center (SBDC).\n\nThis workshop is hosted by the UTRGV SBDC with promotional support by the Brownsville Chamber of Commerce\, Rio Grande City Economic Development Corporation\, and Weslaco Area Chamber of Commerce and Visitors Center.\n\nClick on link above to register. Deadline applies.
X-ALT-DESC;FMTTYPE=text/html:<div class="kvgmc6g5 cxmmr5t8 oygrvhab hcukyx3x c1et5uql" style="overflow-wrap: break-word\; margin: 0px\; font-family: &quot\;Segoe UI Historic&quot\;\, &quot\;Segoe UI&quot\;\, Helvetica\, Arial\, sans-serif\; color: rgb(5\, 5\, 5)\; font-size: 15px\;">REGISTRATION LINK:<br />\n<a class="oajrlxb2 g5ia77u1 qu0x051f esr5mh6w e9989ue4 r7d6kgcz rq0escxv nhd2j8a9 nc684nl6 p7hjln8o kvgmc6g5 cxmmr5t8 oygrvhab hcukyx3x jb3vyjys rz4wbd8a qt6c0cv9 a8nywdso i1ao9s8h esuyzwwr f1sip0of lzcic4wl py34i1dx gpro0wi8" href="https://utsa.ecenterdirect.com/events/32453?fbclid=IwAR3B0NwFytkS5A6H98wVaV34uE_artF4xzDFZTCiTzbcFNeH2Tpb9iJpMFo" rel="nofollow noopener" role="link" style="color: var(--blue-link)\; cursor: pointer\; text-decoration-line: none\; outline: none\; list-style: none\; border-width: 0px\; border-style: initial\; border-color: initial\; padding: 0px\; margin: 0px\; touch-action: manipulation\; background-color: transparent\; text-align: inherit\; display: inline\; -webkit-tap-highlight-color: transparent\; box-sizing: border-box\; font-family: inherit\;" tabindex="0" target="_blank">https://utsa.ecenterdirect.com/events/32453</a></div>\n\n<div class="o9v6fnle cxmmr5t8 oygrvhab hcukyx3x c1et5uql" style="overflow-wrap: break-word\; margin: 0.5em 0px 0px\; font-family: &quot\;Segoe UI Historic&quot\;\, &quot\;Segoe UI&quot\;\, Helvetica\, Arial\, sans-serif\; color: rgb(5\, 5\, 5)\; font-size: 15px\;">WEBINAR DESCRIPTION:<br />\nAre you planning to hire employees?</div>\n\n<div class="o9v6fnle cxmmr5t8 oygrvhab hcukyx3x c1et5uql" style="overflow-wrap: break-word\; margin: 0.5em 0px 0px\; font-family: &quot\;Segoe UI Historic&quot\;\, &quot\;Segoe UI&quot\;\, Helvetica\, Arial\, sans-serif\; color: rgb(5\, 5\, 5)\; font-size: 15px\;">Hiring employees involves more than just signing a paycheck. Before hiring employees\, business owners must understand and prepare for the additional obligations that come with being an employer. This workshop sheds light on the compliance requirements of payroll.</div>\n\n<div class="o9v6fnle cxmmr5t8 oygrvhab hcukyx3x c1et5uql" style="overflow-wrap: break-word\; margin: 0.5em 0px 0px\; font-family: &quot\;Segoe UI Historic&quot\;\, &quot\;Segoe UI&quot\;\, Helvetica\, Arial\, sans-serif\; color: rgb(5\, 5\, 5)\; font-size: 15px\;">Workshop Highlights:</div>\n\n<div class="o9v6fnle cxmmr5t8 oygrvhab hcukyx3x c1et5uql" style="overflow-wrap: break-word\; margin: 0.5em 0px 0px\; font-family: &quot\;Segoe UI Historic&quot\;\, &quot\;Segoe UI&quot\;\, Helvetica\, Arial\, sans-serif\; color: rgb(5\, 5\, 5)\; font-size: 15px\;">-Steps to meeting general State and Federal requirements</div>\n\n<div class="o9v6fnle cxmmr5t8 oygrvhab hcukyx3x c1et5uql" style="overflow-wrap: break-word\; margin: 0.5em 0px 0px\; font-family: &quot\;Segoe UI Historic&quot\;\, &quot\;Segoe UI&quot\;\, Helvetica\, Arial\, sans-serif\; color: rgb(5\, 5\, 5)\; font-size: 15px\;">-Laws and types of payroll taxes business owners must pay</div>\n\n<div class="o9v6fnle cxmmr5t8 oygrvhab hcukyx3x c1et5uql" style="overflow-wrap: break-word\; margin: 0.5em 0px 0px\; font-family: &quot\;Segoe UI Historic&quot\;\, &quot\;Segoe UI&quot\;\, Helvetica\, Arial\, sans-serif\; color: rgb(5\, 5\, 5)\; font-size: 15px\;">-Contact information for the different agencies that govern payroll taxes</div>\n\n<div class="o9v6fnle cxmmr5t8 oygrvhab hcukyx3x c1et5uql" style="overflow-wrap: break-word\; margin: 0.5em 0px 0px\; font-family: &quot\;Segoe UI Historic&quot\;\, &quot\;Segoe UI&quot\;\, Helvetica\, Arial\, sans-serif\; color: rgb(5\, 5\, 5)\; font-size: 15px\;">-Helpful resources</div>\n\n<div class="o9v6fnle cxmmr5t8 oygrvhab hcukyx3x c1et5uql" style="overflow-wrap: break-word\; margin: 0.5em 0px 0px\; font-family: &quot\;Segoe UI Historic&quot\;\, &quot\;Segoe UI&quot\;\, Helvetica\, Arial\, sans-serif\; color: rgb(5\, 5\, 5)\; font-size: 15px\;">This workshop is presented by a Business &amp\; HR Advisor with the UTRGV Small Business Development Center (SBDC).</div>\n\n<div class="o9v6fnle cxmmr5t8 oygrvhab hcukyx3x c1et5uql" style="overflow-wrap: break-word\; margin: 0.5em 0px 0px\; font-family: &quot\;Segoe UI Historic&quot\;\, &quot\;Segoe UI&quot\;\, Helvetica\, Arial\, sans-serif\; color: rgb(5\, 5\, 5)\; font-size: 15px\;">This workshop is hosted by the UTRGV SBDC with promotional support by the Brownsville Chamber of Commerce\, Rio Grande City Economic Development Corporation\, and Weslaco Area Chamber of Commerce and Visitors Center.</div>\n\n<div class="o9v6fnle cxmmr5t8 oygrvhab hcukyx3x c1et5uql" style="overflow-wrap: break-word\; margin: 0.5em 0px 0px\; font-family: &quot\;Segoe UI Historic&quot\;\, &quot\;Segoe UI&quot\;\, Helvetica\, Arial\, sans-serif\; color: rgb(5\, 5\, 5)\; font-size: 15px\;">Click on link above to register. Deadline applies.</div>\n
LOCATION:Online Event. REGISTRATION LINK: https://utsa.ecenterdirect.com/events/32453
UID:e.1244.19560
SEQUENCE:3
DTSTAMP:20260422T132956Z
URL:https://business.weslaco.com/events/details/payroll-compliance-19560
END:VEVENT

END:VCALENDAR
