BEGIN:VCALENDAR
VERSION:2.0
PRODID:-//ChamberMaster//Event Calendar 2.0//EN
METHOD:PUBLISH
X-PUBLISHED-TTL:P3D
REFRESH-INTERVAL:P3D
CALSCALE:GREGORIAN
BEGIN:VEVENT
DTSTART:20181017T140000Z
DTEND:20181017T150000Z
X-MICROSOFT-CDO-ALLDAYEVENT:FALSE
SUMMARY:Payroll Planning presented by Wycotax
DESCRIPTION:Payroll processing sounds like a simple proposition. Employees work at a certain rate of pay. You take out taxes and give them the rest of what they've earned. Sounds like basic math\, right? Many business owners think that handling the responsibility in-house is more cost-effective\, when in fact\, outsourcing the task can help you save money\, especially if you own a small medium-sized company.\n\n\n\n\n\nWe will cover today's most challenging payroll management issues including:\n\n\n\n1. )A payroll service provider v. an In-house payroll clerk\n\n\n\n2.) Time saved is money saved\n\n\n\n3.) Avoiding Costly Mistakes\n\n\n\nAnd much more!\n\n\n\n\n\nInvesting in a payroll service provider will give you the precious time to concentrate on strategies to help your business grow in the future! Everyone makes mistakes. yet business owners do not realize the amount of money lost due to these mistakes! Auditors and investigators are charged with catching and cleaning-up these errors. What you don't know can hurt you. That's never more true than when dealing with payroll law. The first step to complying with regulations is understanding them and allowing an expert to do it for you!\n\n\n\n\n\nJoin us for a FREE seminar\, presented by the WYCOTAX Payroll Department\, as they give us the benefits and savings of having a payroll service provider.
X-ALT-DESC;FMTTYPE=text/html:<span>Payroll processing sounds like a simple proposition. Employees work at a certain rate of pay. You take out taxes and give them the rest of what they&#39\;ve earned. Sounds like basic math\, right? Many business owners think that handling the responsibility in-house is more cost-effective\, when in fact\, outsourcing the task can help you save money\, especially if you own a small medium-sized company.<br />\n<br />\n<br />\nWe will cover today&#39\;s most challenging payroll management issues including:<br />\n<br />\n1. )A payroll service provider v. an In-house payroll clerk<br />\n<br />\n2.) Time saved is money saved<br />\n<br />\n3.) Avoiding Costly Mistakes<br />\n<br />\nAnd much more!<br />\n<br />\n<br />\nInvesting in a payroll service provider will give you the precious time to concentrate on strategies to help your business grow in the future! Everyone makes mistakes. yet business owners do not realize the amount of money lost due to these mistakes! Auditors and investigators are charged with catching and cleaning-up these errors. What you don&#39\;t know can hurt you. That&#39\;s never more true than when dealing with payroll law. The first step to complying with regulations is understanding them and allowing an expert to do it for you!<br />\n<br />\n<br />\nJoin us for a FREE seminar\, presented by the WYCOTAX Payroll Department\, as they give us the benefits and savings of having a payroll service provider.</span>
LOCATION:Weslaco Chamber of Commerce 275 S Kansas Ave\, Weslaco\, TX 78596
UID:e.1244.16987
SEQUENCE:3
DTSTAMP:20260420T230306Z
URL:https://business.weslaco.com/events/details/payroll-planning-presented-by-wycotax-16987
END:VEVENT

END:VCALENDAR
