BEGIN:VCALENDAR
VERSION:2.0
PRODID:-//ChamberMaster//Event Calendar 2.0//EN
METHOD:PUBLISH
X-PUBLISHED-TTL:P3D
REFRESH-INTERVAL:P3D
CALSCALE:GREGORIAN
BEGIN:VEVENT
DTSTART:20161122T160000Z
DTEND:20161123T050000Z
X-MICROSOFT-CDO-ALLDAYEVENT:FALSE
SUMMARY:Peek's Snacks and Candies Ribbon Cutting
DESCRIPTION:
X-ALT-DESC;FMTTYPE=text/html:
LOCATION:1025 N. Texas Blvd. Ste. 12C Weslaco
UID:e.1244.11414
SEQUENCE:3
DTSTAMP:20260422T134154Z
URL:https://business.weslaco.com/events/details/peek-s-snacks-and-candies-ribbon-cutting-11414
END:VEVENT

END:VCALENDAR
