BEGIN:VCALENDAR
VERSION:2.0
PRODID:-//ChamberMaster//Event Calendar 2.0//EN
METHOD:PUBLISH
X-PUBLISHED-TTL:P3D
REFRESH-INTERVAL:P3D
CALSCALE:GREGORIAN
BEGIN:VEVENT
DTSTART:20161210T220000Z
DTEND:20161210T230000Z
X-MICROSOFT-CDO-ALLDAYEVENT:FALSE
SUMMARY:Phil and Debi Jones in Concert at First United Methodist Church
DESCRIPTION:Come enjoy this FREE Christmas concert and hymn sing-along! Bring a love donation to support the Shoe Bank and Food Bank of the RGV.
X-ALT-DESC;FMTTYPE=text/html:Come enjoy this FREE Christmas concert and hymn sing-along! Bring a love donation to support the Shoe Bank and Food Bank of the RGV.
LOCATION:First United Methodist Church 520 S. Illinois\, Weslaco
UID:e.1244.11495
SEQUENCE:3
DTSTAMP:20260422T115922Z
URL:https://business.weslaco.com/events/details/phil-and-debi-jones-in-concert-at-first-united-methodist-church-11495
END:VEVENT

END:VCALENDAR
