BEGIN:VCALENDAR
VERSION:2.0
PRODID:-//ChamberMaster//Event Calendar 2.0//EN
METHOD:PUBLISH
X-PUBLISHED-TTL:P3D
REFRESH-INTERVAL:P3D
CALSCALE:GREGORIAN
BEGIN:VEVENT
DTSTART:20170615T233000Z
DTEND:20170616T003000Z
X-MICROSOFT-CDO-ALLDAYEVENT:FALSE
SUMMARY:Photo Scavenger Hunt at Frontera Audubon
DESCRIPTION:Get to know the wonderful world hidden inside the thicket with this fun PHOTO SCAVENGER HUNT! This is a traditional scavenger hunt with a twist! Instead of a boring old check list of items to find\, you'll be given a key ring with a selection of pictures of specific areas found inside the thicket. Find & match these specific places while you take a walk in the trail. This is a team activity\, work together!\n\n\n\nWhen: Thursday\, June 15th\n\nTime: 6:30 pm - 7:30 pm\n\nPrice: $3 or FREE for Frontera Audubon members
X-ALT-DESC;FMTTYPE=text/html:<span class="_4n-j _fbReactionComponent__eventDetailsContentTags fsl" data-testid="event-permalink-details">Get to know the wonderful world hidden inside the thicket with this fun PHOTO SCAVENGER HUNT! This is a traditional scavenger hunt with a twist! Instead of a boring old check list of items to find\, you'll be given a key ring with a selection of pictures of specific areas found inside the thicket. Find &amp\; match these specific places while you take a walk in the trail. This is a team activity\, work together!<br>\n<br>\nWhen: Thursday\, June 15th<br>\nTime: 6:30 pm - 7:30 pm<br>\nPrice: $3 or FREE for Frontera Audubon members</span>
LOCATION:1101 S. Texas Weslaco\, TX
UID:e.1244.12752
SEQUENCE:3
DTSTAMP:20260422T014003Z
URL:https://business.weslaco.com/events/details/photo-scavenger-hunt-at-frontera-audubon-12752
END:VEVENT

END:VCALENDAR
