BEGIN:VCALENDAR
VERSION:2.0
PRODID:-//ChamberMaster//Event Calendar 2.0//EN
METHOD:PUBLISH
X-PUBLISHED-TTL:P3D
REFRESH-INTERVAL:P3D
CALSCALE:GREGORIAN
BEGIN:VEVENT
DTSTART:20140210T200000Z
DTEND:20140210T230000Z
X-MICROSOFT-CDO-ALLDAYEVENT:FALSE
SUMMARY:Photography Workshop at Estero Llano Grande
DESCRIPTION:Get to know your camera and learn techniques for improving your photography. Technical details\, composition & lighting as well as basic editing will be covered. These workshops will help solve your digital dilemmas allowing you to better capture the natural world around you.  Call 565-3919 to register.
X-ALT-DESC;FMTTYPE=text/html:Get to know your camera and learn techniques for improving your photography. Technical details\, composition &amp\; lighting as well as basic editing will be covered. These workshops will help solve your digital dilemmas allowing you to better capture the natural world around you. &nbsp\;Call 565-3919 to register.<br />\n
LOCATION:Estero Llano Grande State Park 3301 S. International Blvd. Weslaco\, TX
UID:e.1244.4815
SEQUENCE:3
DTSTAMP:20260424T212430Z
URL:https://business.weslaco.com/events/details/photography-workshop-at-estero-llano-grande-02-10-2014-4815
END:VEVENT

END:VCALENDAR
