BEGIN:VCALENDAR
VERSION:2.0
PRODID:-//ChamberMaster//Event Calendar 2.0//EN
METHOD:PUBLISH
X-PUBLISHED-TTL:P3D
REFRESH-INTERVAL:P3D
CALSCALE:GREGORIAN
BEGIN:VEVENT
DTSTART:20140417T210000Z
DTEND:20140417T220000Z
X-MICROSOFT-CDO-ALLDAYEVENT:FALSE
SUMMARY:Picture Perfect Ribbon Cutting
DESCRIPTION:
X-ALT-DESC;FMTTYPE=text/html:
LOCATION:2420 E. Business 83 Weslaco\, TX
UID:e.1244.5890
SEQUENCE:3
DTSTAMP:20260424T161435Z
URL:https://business.weslaco.com/events/details/picture-perfect-ribbon-cutting-04-17-2014-5890
END:VEVENT

END:VCALENDAR
