BEGIN:VCALENDAR
VERSION:2.0
PRODID:-//ChamberMaster//Event Calendar 2.0//EN
METHOD:PUBLISH
X-PUBLISHED-TTL:P3D
REFRESH-INTERVAL:P3D
CALSCALE:GREGORIAN
BEGIN:VEVENT
DTSTART:20161217T200000Z
DTEND:20161217T210000Z
X-MICROSOFT-CDO-ALLDAYEVENT:FALSE
SUMMARY:Picture with Santa
DESCRIPTION:The Mayor Joe V. Sanchez Public Library will be having a free "Picture with Santa" on Saturday\, December 17\, at 2 PM. The library will have Special Guests\, Free Raffle Prizes and Goodie Bags will be available to the first 50 children. You must be present to win!
X-ALT-DESC;FMTTYPE=text/html:The Mayor Joe V. Sanchez Public Library will be having a free &ldquo\;Picture with Santa&rdquo\; on Saturday\, December 17\, at 2 PM. The library will have Special Guests\, Free Raffle Prizes and Goodie Bags will be available to the first 50 children. You must be present to win!
LOCATION:Mayor Joe V. Sanchez Public Library 525 S. Kansas Ave. Weslaco\, TX 78596
UID:e.1244.11492
SEQUENCE:3
DTSTAMP:20260422T114931Z
URL:https://business.weslaco.com/events/details/picture-with-santa-11492
END:VEVENT

END:VCALENDAR
