BEGIN:VCALENDAR
VERSION:2.0
PRODID:-//ChamberMaster//Event Calendar 2.0//EN
METHOD:PUBLISH
X-PUBLISHED-TTL:P3D
REFRESH-INTERVAL:P3D
CALSCALE:GREGORIAN
BEGIN:VEVENT
DTSTART:20181222T200000Z
DTEND:20181222T210000Z
X-MICROSOFT-CDO-ALLDAYEVENT:FALSE
SUMMARY:Picture with Santa at Mayor Sanchez Library
DESCRIPTION:The Mayor Joe V. Sanchez Public Library will be having a free "Picture with Santa" on Saturday\, December 22\, at 2 PM. Featuring special guest Lamar "The Jank" Jones. Sponsored by Chick-fil-A and All Valley Waste.
X-ALT-DESC;FMTTYPE=text/html:The Mayor Joe V. Sanchez Public Library will be having a free &ldquo\;Picture with Santa&rdquo\; on Saturday\, December 22\, at 2 PM. Featuring special guest Lamar &quot\;The Jank&quot\; Jones. Sponsored by Chick-fil-A and All Valley Waste.
LOCATION:Mayor Joe V. Sanchez Public Library 525 S. Kansas Ave. Weslaco\, TX 78596
UID:e.1244.17035
SEQUENCE:3
DTSTAMP:20260420T194444Z
URL:https://business.weslaco.com/events/details/picture-with-santa-at-mayor-sanchez-library-17035
END:VEVENT

END:VCALENDAR
