BEGIN:VCALENDAR
VERSION:2.0
PRODID:-//ChamberMaster//Event Calendar 2.0//EN
METHOD:PUBLISH
X-PUBLISHED-TTL:P3D
REFRESH-INTERVAL:P3D
CALSCALE:GREGORIAN
BEGIN:VEVENT
DTSTART:20171209T200000Z
DTEND:20171209T210000Z
X-MICROSOFT-CDO-ALLDAYEVENT:FALSE
SUMMARY:Pictures with Santa at Mayor Joe V. Sanchez Public Library
DESCRIPTION:Santa Claus is coming to Mayor Joe V. Sanchez Public Library! Receive a free picture with Santa (one per family) Enjoy book giveaways\, kids crafts and sweet treats.
X-ALT-DESC;FMTTYPE=text/html:Santa Claus is coming to Mayor Joe V. Sanchez Public Library! Receive a free picture with Santa (one per family) Enjoy book giveaways\, kids crafts and sweet treats.
LOCATION:525 S. Kansas Weslaco
UID:e.1244.14463
SEQUENCE:3
DTSTAMP:20260421T171843Z
URL:https://business.weslaco.com/events/details/pictures-with-santa-at-mayor-joe-v-sanchez-public-library-14463
END:VEVENT

END:VCALENDAR
