BEGIN:VCALENDAR
VERSION:2.0
PRODID:-//ChamberMaster//Event Calendar 2.0//EN
METHOD:PUBLISH
X-PUBLISHED-TTL:P3D
REFRESH-INTERVAL:P3D
CALSCALE:GREGORIAN
BEGIN:VEVENT
DTSTART:20170302T233000Z
DTEND:20170303T010000Z
X-MICROSOFT-CDO-ALLDAYEVENT:FALSE
SUMMARY:Plains Capital Bank Grand Opening
DESCRIPTION:
X-ALT-DESC;FMTTYPE=text/html:
LOCATION:911 W. Expressway 83 Weslaco\, TX
UID:e.1244.11540
SEQUENCE:3
DTSTAMP:20260422T084228Z
URL:https://business.weslaco.com/events/details/plains-capital-bank-grand-opening-11540
END:VEVENT

END:VCALENDAR
