BEGIN:VCALENDAR
VERSION:2.0
PRODID:-//ChamberMaster//Event Calendar 2.0//EN
METHOD:PUBLISH
X-PUBLISHED-TTL:P3D
REFRESH-INTERVAL:P3D
CALSCALE:GREGORIAN
BEGIN:VEVENT
DTSTART:20160112T160000Z
DTEND:20160112T170000Z
X-MICROSOFT-CDO-ALLDAYEVENT:FALSE
SUMMARY:Plains Capital Bank Groundbreaking
DESCRIPTION:
X-ALT-DESC;FMTTYPE=text/html:
LOCATION:
UID:e.1244.9094
SEQUENCE:3
DTSTAMP:20260423T053650Z
URL:https://business.weslaco.com/events/details/plains-capital-bank-groundbreaking-01-12-2016-9094
END:VEVENT

END:VCALENDAR
