BEGIN:VCALENDAR
VERSION:2.0
PRODID:-//ChamberMaster//Event Calendar 2.0//EN
METHOD:PUBLISH
X-PUBLISHED-TTL:P3D
REFRESH-INTERVAL:P3D
CALSCALE:GREGORIAN
BEGIN:VEVENT
DTSTART:20190326T150000Z
DTEND:20190326T170000Z
X-MICROSOFT-CDO-ALLDAYEVENT:FALSE
SUMMARY:Plant Walk
DESCRIPTION:Join us for a ranger-led hike to identify interesting native and non-native plants in the park.\n\n\n\nEver wonder what the names of those plants were?! Ever wonder about that beautiful flower?! Join us on a two-hour leisurely stroll to explore the fauna of the park led by very knowledgeable Park Host Rick Snider! Free with Park Admission!
X-ALT-DESC;FMTTYPE=text/html:<span>Join us for a ranger-led hike to identify interesting native and non-native plants in the park.<br />\n<br />\nEver wonder what the names of those plants were?! Ever wonder about that beautiful flower?! Join us on a two-hour leisurely stroll to explore the fauna of the park led by very knowledgeable Park Host Rick Snider! Free with Park Admission!</span>
LOCATION:Estero Llano Grande State Park 154 Lakeview Dr Ste A\, Weslaco\, Texas 78596
UID:e.1244.17111
SEQUENCE:3
DTSTAMP:20260420T143811Z
URL:https://business.weslaco.com/events/details/plant-walk-17111
END:VEVENT

END:VCALENDAR
