BEGIN:VCALENDAR
VERSION:2.0
PRODID:-//ChamberMaster//Event Calendar 2.0//EN
METHOD:PUBLISH
X-PUBLISHED-TTL:P3D
REFRESH-INTERVAL:P3D
CALSCALE:GREGORIAN
BEGIN:VEVENT
DTSTART:20200123T193000Z
DTEND:20200123T213000Z
X-MICROSOFT-CDO-ALLDAYEVENT:FALSE
SUMMARY:Plant Walk at Estero Llano Grande
DESCRIPTION:
X-ALT-DESC;FMTTYPE=text/html:
LOCATION:Estero Llano Grande State Park 3301 S. International Blvd.
UID:e.1244.18853
SEQUENCE:3
DTSTAMP:20260419T234414Z
URL:https://business.weslaco.com/events/details/plant-walk-at-estero-llano-grande-01-23-2020-18853
END:VEVENT

END:VCALENDAR
