BEGIN:VCALENDAR
VERSION:2.0
PRODID:-//ChamberMaster//Event Calendar 2.0//EN
METHOD:PUBLISH
X-PUBLISHED-TTL:P3D
REFRESH-INTERVAL:P3D
CALSCALE:GREGORIAN
BEGIN:VEVENT
DTSTART:20190822T230000Z
DTEND:20190823T010000Z
X-MICROSOFT-CDO-ALLDAYEVENT:FALSE
SUMMARY:Plant Walk at Estero Llano Grande State Park
DESCRIPTION:Join us for a ranger-led hike to identify interesting native and non-native plants in the park.\n\n\n\nEver wonder what the names of those plants were?! Ever wonder about that beautiful flower?! Join us on a two-hour leisurely stroll to explore the fauna of the park.
X-ALT-DESC;FMTTYPE=text/html:<span style="color: rgb(29\, 33\, 41)\; font-family: Helvetica\, Arial\, sans-serif\; font-size: 14px\; white-space: pre-wrap\;">Join us for a ranger-led hike to identify interesting native and non-native plants in the park.</span><br style="color: rgb(29\, 33\, 41)\; font-family: Helvetica\, Arial\, sans-serif\; font-size: 14px\; white-space: pre-wrap\;" />\n<br style="color: rgb(29\, 33\, 41)\; font-family: Helvetica\, Arial\, sans-serif\; font-size: 14px\; white-space: pre-wrap\;" />\n<span style="color: rgb(29\, 33\, 41)\; font-family: Helvetica\, Arial\, sans-serif\; font-size: 14px\; white-space: pre-wrap\;">Ever wonder what the names of those plants were?! Ever wonder about that beautiful flower?! Join us on a two-hour leisurely stroll to explore the fauna of the park.</span>
LOCATION:Estero Llano Grande State Park 3301 S. International Blvd.
UID:e.1244.18732
SEQUENCE:3
DTSTAMP:20260420T062613Z
URL:https://business.weslaco.com/events/details/plant-walk-at-estero-llano-grande-state-park-08-22-2019-18732
END:VEVENT

END:VCALENDAR
