BEGIN:VCALENDAR
VERSION:2.0
PRODID:-//ChamberMaster//Event Calendar 2.0//EN
METHOD:PUBLISH
X-PUBLISHED-TTL:P3D
REFRESH-INTERVAL:P3D
CALSCALE:GREGORIAN
BEGIN:VEVENT
DTSTART:20140204T160000Z
DTEND:20140204T180000Z
X-MICROSOFT-CDO-ALLDAYEVENT:FALSE
SUMMARY:Plants of Estero
DESCRIPTION:Specialized tours to look at some of the excellent examples of species of trees & shrubs native to the valley. There is also a variety of introduced plants from around the world. We'll focus on a different topic each tour. Come ride the tram and learn about the botanical history of the valley. Registration and information: 956-565-3919.
X-ALT-DESC;FMTTYPE=text/html:Specialized tours to look at some of the excellent examples of species of trees &amp\; shrubs native to the valley. There is also a variety of introduced plants from around the world. We&rsquo\;ll focus on a different topic each tour. Come ride the tram and learn about the botanical history of the valley. Registration and information: 956-565-3919.<br />\n
LOCATION:Estero Llano Grande State Park 3301 S. International Blvd.
UID:e.1244.5045
SEQUENCE:3
DTSTAMP:20260424T193223Z
URL:https://business.weslaco.com/events/details/plants-of-estero-02-04-2014-5045
END:VEVENT

END:VCALENDAR
