BEGIN:VCALENDAR
VERSION:2.0
PRODID:-//ChamberMaster//Event Calendar 2.0//EN
METHOD:PUBLISH
X-PUBLISHED-TTL:P3D
REFRESH-INTERVAL:P3D
CALSCALE:GREGORIAN
BEGIN:VEVENT
DTSTART:20190424T213000Z
DTEND:20190424T223000Z
X-MICROSOFT-CDO-ALLDAYEVENT:FALSE
SUMMARY:PPG Paints Ribbon Cutting
DESCRIPTION:
X-ALT-DESC;FMTTYPE=text/html:
LOCATION:1406 W. Expressway 83\, Ste. A Weslaco
UID:e.1244.18134
SEQUENCE:3
DTSTAMP:20260420T130125Z
URL:https://business.weslaco.com/events/details/ppg-paints-ribbon-cutting-18134
END:VEVENT

END:VCALENDAR
