BEGIN:VCALENDAR
VERSION:2.0
PRODID:-//ChamberMaster//Event Calendar 2.0//EN
METHOD:PUBLISH
X-PUBLISHED-TTL:P3D
REFRESH-INTERVAL:P3D
CALSCALE:GREGORIAN
BEGIN:VEVENT
DTSTART:20160309T233000Z
DTEND:20160310T010000Z
X-MICROSOFT-CDO-ALLDAYEVENT:FALSE
SUMMARY:Property Tax Seminar
DESCRIPTION:The Hidalgo County Tax Assessor's Office and Hidalgo County Appraisal District Office\, in partnership with Linebarger Goggan Blair & Sampson\, LLP\, are offering a series of educational presentations about property taxes.  In this FREE presentation\, Hidalgo Co. Tax Assessor Collector Paul Villarreal\, Jr./Chief of Operations Eva Mireles\, Hidalgo County Appraisal District Asst. Chief Appraiser Jorge Gonzalez and Attornety Kelly R. Salazar from Linebarger Goggan Blair & Sampson\, LLP will explain each aspect of property tax and will take questions from the public.
X-ALT-DESC;FMTTYPE=text/html:The Hidalgo County Tax Assessor&#39\;s Office and Hidalgo County Appraisal District Office\, in partnership with Linebarger Goggan&nbsp\;Blair &amp\; Sampson\, LLP\, are offering a series of educational presentations about property taxes. &nbsp\;In this FREE presentation\, Hidalgo Co. Tax Assessor Collector Paul Villarreal\, Jr./Chief of Operations Eva Mireles\, Hidalgo County Appraisal District Asst. Chief Appraiser Jorge Gonzalez and Attornety Kelly R. Salazar from Linebarger Goggan Blair &amp\; Sampson\, LLP will explain each aspect of property tax and will take questions from the public.
LOCATION:Mayor Joe V. Sanchez Library 525 S. Kansas Ave\, Weslaco\, TX
UID:e.1244.9127
SEQUENCE:3
DTSTAMP:20260423T023519Z
URL:https://business.weslaco.com/events/details/property-tax-seminar-03-09-2016-9127
END:VEVENT

END:VCALENDAR
