BEGIN:VCALENDAR
VERSION:2.0
PRODID:-//ChamberMaster//Event Calendar 2.0//EN
METHOD:PUBLISH
X-PUBLISHED-TTL:P3D
REFRESH-INTERVAL:P3D
CALSCALE:GREGORIAN
BEGIN:VEVENT
DTSTART:20160116T200000Z
DTEND:20160116T220000Z
X-MICROSOFT-CDO-ALLDAYEVENT:FALSE
SUMMARY:Quilt Pattern Making for Kids at the Weslaco Museum
DESCRIPTION:Come join us on Saturday January 16th at the Weslaco Museum to create paper patterns in the same way quilts were once made. You can design your own pattern to take home.  This is a free event!
X-ALT-DESC;FMTTYPE=text/html:<span style="font-size:12px\;"><span style="font-family:arial\;">Come join us on Saturday January 16<sup>th</sup> at the Weslaco Museum to create paper patterns in the same way quilts were once made. You can design your own pattern to take home.&nbsp\; <u>This is a free event!</u></span></span>
LOCATION:Weslaco Museum 500 S. Texas
UID:e.1244.9092
SEQUENCE:3
DTSTAMP:20260423T053801Z
URL:https://business.weslaco.com/events/details/quilt-pattern-making-for-kids-at-the-weslaco-museum-01-16-2016-9092
END:VEVENT

END:VCALENDAR
