BEGIN:VCALENDAR
VERSION:2.0
PRODID:-//ChamberMaster//Event Calendar 2.0//EN
METHOD:PUBLISH
X-PUBLISHED-TTL:P3D
REFRESH-INTERVAL:P3D
CALSCALE:GREGORIAN
BEGIN:VEVENT
DTSTART;VALUE=DATE:20170927
DTEND;VALUE=DATE:20170928
TRANSP:TRANSPARENT
X-MICROSOFT-CDO-ALLDAYEVENT:TRUE
SUMMARY:Raising Cane's Hurricane Harvey Fundraiser
DESCRIPTION:Raising Cane's restaurants in Texas are rallying to support those impacted by Hurricane Harvey. All Texas Restaurants will donate 100% of their net proceeds to the United Way of Greater Houston on WED. SEP. 27\, through the 1   for Texas fundraiser.\n\n \n\nLike past relief efforts and fundraisers\, Customers can also make additional donations at the register\, state-wide\, on the fundraiser day. 100% of all donations and net proceeds will go to Harvey relief efforts. This means supplying basic needs\, like toiletries and food\, long-term care\, family and childcare needs\, and anything else not typically covered by other organizations.
X-ALT-DESC;FMTTYPE=text/html:Raising Cane&#39\;s restaurants in Texas are rallying to support those impacted by Hurricane Harvey. All Texas Restaurants will donate 100% of their net proceeds to the United Way of Greater Houston on <strong><u>WED. SEP. 27</u></strong>\, through the <strong>1&nbsp\;</strong><strong><span style="font-family:segoe ui emoji\,sans-serif\;">&#10084\;</span>&nbsp\;for Texas</strong> fundraiser.<br />\n&nbsp\;<br />\nLike past relief efforts and fundraisers\, Customers can also make additional donations at the register\, state-wide\, on the fundraiser day. 100% of all donations and net proceeds will go to Harvey relief efforts. This means supplying basic needs\, like toiletries and food\, long-term care\, family and childcare needs\, and anything else not typically covered by other organizations.<br />\n&nbsp\;
LOCATION:Raising Cane's Westgate\, Weslaco
UID:e.1244.14400
SEQUENCE:3
DTSTAMP:20260421T220339Z
URL:https://business.weslaco.com/events/details/raising-cane-s-hurricane-harvey-fundraiser-14400
END:VEVENT

END:VCALENDAR
