BEGIN:VCALENDAR
VERSION:2.0
PRODID:-//ChamberMaster//Event Calendar 2.0//EN
METHOD:PUBLISH
X-PUBLISHED-TTL:P3D
REFRESH-INTERVAL:P3D
CALSCALE:GREGORIAN
BEGIN:VEVENT
DTSTART:20230120T180000Z
DTEND:20230122T180000Z
X-MICROSOFT-CDO-ALLDAYEVENT:FALSE
SUMMARY:Raptor Identification Workshop with Bill Clark
DESCRIPTION:Learn the basics behind Raptor Identification with an expert! Bill Clark will be holding a basic Raptor Identification workshop at Frontera Audubon in January. The course is open to all levels of birders\, includes lots of time in the field and informative short classroom sessions. Registration is required and enrollment is limited to 20 participants. Please visit our website for more information on registration and to download the registration form. Click here: http://fronteraaudubon.org/subscribe/ If you have any questions\, contact Chris Warren by phone (956) 968-3275 or email Fronteraaudubon@yahoo.com
X-ALT-DESC;FMTTYPE=text/html:Learn the basics behind Raptor Identification with an expert! Bill Clark will be holding a basic Raptor Identification workshop at Frontera Audubon in January. The course is open to all levels of birders\, includes lots of time in the field and informative short classroom sessions. Registration is required and enrollment is limited to 20 participants. Please visit our website for more information on registration and to download the registration form. Click here: http://fronteraaudubon.org/subscribe/ If you have any questions\, contact Chris Warren by phone (956) 968-3275 or email Fronteraaudubon@yahoo.com
LOCATION:Frontera Audubon 1101 S Texas Blvd Weslaco\, Tx 78596
UID:e.1244.21795
SEQUENCE:3
DTSTAMP:20260421T033415Z
URL:https://business.weslaco.com/events/details/raptor-identification-workshop-with-bill-clark-21795
END:VEVENT

END:VCALENDAR
