BEGIN:VCALENDAR
VERSION:2.0
PRODID:-//ChamberMaster//Event Calendar 2.0//EN
METHOD:PUBLISH
X-PUBLISHED-TTL:P3D
REFRESH-INTERVAL:P3D
CALSCALE:GREGORIAN
BEGIN:VEVENT
DTSTART:20190131T223000Z
DTEND:20190131T230000Z
X-MICROSOFT-CDO-ALLDAYEVENT:FALSE
SUMMARY:Read Out Loud Day
DESCRIPTION:Please join the library and local teen author\, Katelynn Renteria\, for World Read Aloud Day!
X-ALT-DESC;FMTTYPE=text/html:Please join the library and local teen author\, Katelynn Renteria\, for World Read Aloud Day!
LOCATION:525 S Kansas Av (0.25 mi) Weslaco\, Texas 78596
UID:e.1244.17084
SEQUENCE:3
DTSTAMP:20260420T175229Z
URL:https://business.weslaco.com/events/details/read-out-loud-day-17084
END:VEVENT

END:VCALENDAR
