BEGIN:VCALENDAR
VERSION:2.0
PRODID:-//ChamberMaster//Event Calendar 2.0//EN
METHOD:PUBLISH
X-PUBLISHED-TTL:P3D
REFRESH-INTERVAL:P3D
CALSCALE:GREGORIAN
BEGIN:VEVENT
DTSTART:20160817T133000Z
DTEND:20160817T210000Z
X-MICROSOFT-CDO-ALLDAYEVENT:FALSE
SUMMARY:ReadyBusiness Workshop - Inland Flooding
DESCRIPTION:FEMA Individual Community and Preparedness Division\, FEMA Region VI\, the Lower Rio Grande Valley Development Council\, and the Federal Alliance for Safe Homes\, (FLASH) will welcome businesses and organizations to the area's first ReadyBusiness workshop in Weslaco. With a focus on the new Inland Flooding ReadyBusiness Toolkit\, workshop participants will learn to identify their risks\, develop a plan\, and take action to mitigate potential impacts. The daylong workshop delivers modules focused on Staff\, Surroundings\, Space\, Systems\, Structure\, and Service.
X-ALT-DESC;FMTTYPE=text/html:FEMA Individual Community and Preparedness Division\, FEMA Region VI\, the Lower Rio Grande Valley Development Council\, and the Federal Alliance for Safe Homes\, (FLASH) will welcome businesses and organizations to the area&rsquo\;s first ReadyBusiness workshop in Weslaco. With a focus on the new Inland Flooding ReadyBusiness Toolkit\, workshop participants will learn to identify their risks\, develop a plan\, and take action to mitigate potential impacts. The daylong workshop delivers modules focused on Staff\, Surroundings\, Space\, Systems\, Structure\, and Service.
LOCATION:Lower Rio Grande Valley Developmental Council 301 W. Railroad Street Weslaco\, TX 78596
UID:e.1244.10995
SEQUENCE:3
DTSTAMP:20260422T184144Z
URL:https://business.weslaco.com/events/details/readybusiness-workshop-inland-flooding-08-17-2016-10995
END:VEVENT

END:VCALENDAR
