BEGIN:VCALENDAR
VERSION:2.0
PRODID:-//ChamberMaster//Event Calendar 2.0//EN
METHOD:PUBLISH
X-PUBLISHED-TTL:P3D
REFRESH-INTERVAL:P3D
CALSCALE:GREGORIAN
BEGIN:VEVENT
DTSTART:20140530T170000Z
DTEND:20140530T183000Z
X-MICROSOFT-CDO-ALLDAYEVENT:FALSE
SUMMARY:Red Coat Ambassador Mid Year Meeting
DESCRIPTION:Red Coat Ambassador Mid Year Meeting
X-ALT-DESC;FMTTYPE=text/html:Red Coat Ambassador Mid Year Meeting
LOCATION:
UID:e.1244.5904
SEQUENCE:3
DTSTAMP:20260424T155722Z
URL:https://business.weslaco.com/events/details/red-coat-ambassador-mid-year-meeting-05-30-2014-5904
END:VEVENT

END:VCALENDAR
