BEGIN:VCALENDAR
VERSION:2.0
PRODID:-//ChamberMaster//Event Calendar 2.0//EN
METHOD:PUBLISH
X-PUBLISHED-TTL:P3D
REFRESH-INTERVAL:P3D
CALSCALE:GREGORIAN
BEGIN:VEVENT
DTSTART;VALUE=DATE:20211027
DTEND;VALUE=DATE:20211029
TRANSP:TRANSPARENT
X-MICROSOFT-CDO-ALLDAYEVENT:TRUE
SUMMARY:RGV LEAD Presents: 2021 Virtual Education & Career EXPO
DESCRIPTION:
X-ALT-DESC;FMTTYPE=text/html:
LOCATION:
UID:e.1244.20557
SEQUENCE:3
DTSTAMP:20260422T052219Z
URL:https://business.weslaco.com/events/details/rgv-lead-presents-2021-virtual-education-career-expo-20557
END:VEVENT

END:VCALENDAR
