BEGIN:VCALENDAR
VERSION:2.0
PRODID:-//ChamberMaster//Event Calendar 2.0//EN
METHOD:PUBLISH
X-PUBLISHED-TTL:P3D
REFRESH-INTERVAL:P3D
CALSCALE:GREGORIAN
BEGIN:VEVENT
DTSTART:20131002T150000Z
DTEND:20131002T160000Z
X-MICROSOFT-CDO-ALLDAYEVENT:FALSE
SUMMARY:RGV Literacy Center Ribbon Cutting
DESCRIPTION:
X-ALT-DESC;FMTTYPE=text/html:
LOCATION:617 W. Expressway 83 Weslaco\, TX
UID:e.1244.4773
SEQUENCE:3
DTSTAMP:20260425T023604Z
URL:https://business.weslaco.com/events/details/rgv-literacy-center-ribbon-cutting-10-02-2013-4773
END:VEVENT

END:VCALENDAR
