BEGIN:VCALENDAR
VERSION:2.0
PRODID:-//ChamberMaster//Event Calendar 2.0//EN
METHOD:PUBLISH
X-PUBLISHED-TTL:P3D
REFRESH-INTERVAL:P3D
CALSCALE:GREGORIAN
BEGIN:VEVENT
DTSTART:20160127T160000Z
DTEND:20160127T180000Z
X-MICROSOFT-CDO-ALLDAYEVENT:FALSE
SUMMARY:RGV Partnership Open Carry Workshop
DESCRIPTION:Presented by Chief of Police Alvaro Garcia\, City of Palmview and DPS Sergeant Johnny Hernandez
X-ALT-DESC;FMTTYPE=text/html:Presented by Chief of Police Alvaro Garcia\, City of Palmview and DPS Sergeant Johnny Hernandez
LOCATION:Business Visitor & Event Center 275 S. Kansas
UID:e.1244.9098
SEQUENCE:3
DTSTAMP:20260423T052023Z
URL:https://business.weslaco.com/events/details/rgv-partnership-open-carry-workshop-01-27-2016-9098
END:VEVENT

END:VCALENDAR
