BEGIN:VCALENDAR
VERSION:2.0
PRODID:-//ChamberMaster//Event Calendar 2.0//EN
METHOD:PUBLISH
X-PUBLISHED-TTL:P3D
REFRESH-INTERVAL:P3D
CALSCALE:GREGORIAN
BEGIN:VEVENT
DTSTART:20210618T150000Z
DTEND:20210618T160000Z
X-MICROSOFT-CDO-ALLDAYEVENT:FALSE
SUMMARY:RGV SCORE: Small business Lending
DESCRIPTION:Learn how to manage cash flow and credit for your business. Ryan defines three types of cash flow and discusses solutions and potential loans to meet your credit needs.\n\nRyan Melendez serves as the Assistant Vice President\, and Market Leader for BB&T at the Crestview Banking Centers. His career has included experience in Small Business lending at the branch and district level for IBC Bank. He has 15 years of experience in retail banking and small business lending\, where he has successfully assisted his clients in achieving there financial goals\, and business ownership.\n\n\nLearn more at: https://riograndevalley.score.org/event/small-business-lending
X-ALT-DESC;FMTTYPE=text/html:<p style="box-sizing: border-box\; margin-top: 0px\; margin-bottom: 1.75em\; widows: 3\; orphans: 3\; color: rgb(20\, 20\, 20)\; font-family: Montserrat\, sans-serif\; font-size: 16px\;">Learn how to manage cash flow and credit for your business. Ryan defines three types of cash flow and discusses solutions and potential loans to meet your credit needs.</p>\n\n<p style="box-sizing: border-box\; margin-top: 0px\; margin-bottom: 1.75em\; widows: 3\; orphans: 3\; color: rgb(20\, 20\, 20)\; font-family: Montserrat\, sans-serif\; font-size: 16px\;">Ryan Melendez serves as the Assistant Vice President\, and Market Leader for BB&amp\;T at the Crestview Banking Centers. His career has included experience in Small Business lending at the branch and district level for IBC Bank. He has 15 years of experience in retail banking and small business lending\, where he has successfully assisted his clients in achieving there financial goals\, and business ownership.</p>\n<br />\nLearn more at:&nbsp\;https://riograndevalley.score.org/event/small-business-lending&nbsp\;
LOCATION:
UID:e.1244.19719
SEQUENCE:3
DTSTAMP:20260422T115055Z
URL:https://business.weslaco.com/events/details/rgv-score-small-business-lending-19719
END:VEVENT

END:VCALENDAR
