BEGIN:VCALENDAR
VERSION:2.0
PRODID:-//ChamberMaster//Event Calendar 2.0//EN
METHOD:PUBLISH
X-PUBLISHED-TTL:P3D
REFRESH-INTERVAL:P3D
CALSCALE:GREGORIAN
BEGIN:VEVENT
DTSTART:20210622T183000Z
DTEND:20210622T200000Z
X-MICROSOFT-CDO-ALLDAYEVENT:FALSE
SUMMARY:RGV SCORE: Which Website Platform Is Best for You and Your Business
DESCRIPTION:Learn the difference between DIY and DFY and the pros\, cons\, and associated costs of platforms and approaches:\n\n\n	 WordPress.com\n	  WordPress.org\n	  Wix\n	  SquareSpace\n	 Closed Platform\n	 Open Source\n\n\n Consider options for Wordpress Hosting:\n\n\n	  WP Engine\n	  Everything else (GoDaddy.com\, Hostgator\, BlueHost\, 1and1.com)\n\n\n Discover the advantages and limitations of templates\, as well as customizations and support.\n\nMatthew Upton is a WordPress expert with over 30 years of experience in graphic design\, multimedia\, and web development. He has been involved in several startup businesses\, including one that went public. His ongoing love of building websites has developed into exploring all things Internet\, including digital marketing and \n\n\nLearn more at: https://riograndevalley.score.org/event/which-website-platform-best-you-and-your-business
X-ALT-DESC;FMTTYPE=text/html:<p style="box-sizing: border-box\; margin-top: 0px\; margin-bottom: 1.75em\; widows: 3\; orphans: 3\; color: rgb(20\, 20\, 20)\; font-family: Montserrat\, sans-serif\; font-size: 16px\;">Learn the difference between DIY and DFY and the pros\, cons\, and associated costs of platforms and approaches:</p>\n\n<ul style="box-sizing: border-box\; margin-bottom: 1.75em\; padding-left: 1.6em\; list-style-type: square\; color: rgb(20\, 20\, 20)\; font-family: Montserrat\, sans-serif\; font-size: 16px\;">\n	<li style="box-sizing: border-box\;">&middot\;WordPress.com</li>\n	<li style="box-sizing: border-box\;">&middot\;&nbsp\;WordPress.org</li>\n	<li style="box-sizing: border-box\;">&middot\;&nbsp\;Wix</li>\n	<li style="box-sizing: border-box\;">&middot\;&nbsp\;SquareSpace</li>\n	<li style="box-sizing: border-box\;">&middot\;Closed Platform</li>\n	<li style="box-sizing: border-box\;">&middot\;Open Source</li>\n</ul>\n\n<p style="box-sizing: border-box\; margin-top: 0px\; margin-bottom: 1.75em\; widows: 3\; orphans: 3\; color: rgb(20\, 20\, 20)\; font-family: Montserrat\, sans-serif\; font-size: 16px\;">&nbsp\;Consider options for Wordpress Hosting:</p>\n\n<ul style="box-sizing: border-box\; margin-bottom: 1.75em\; padding-left: 1.6em\; list-style-type: square\; color: rgb(20\, 20\, 20)\; font-family: Montserrat\, sans-serif\; font-size: 16px\;">\n	<li style="box-sizing: border-box\;">&middot\;&nbsp\;WP Engine</li>\n	<li style="box-sizing: border-box\;">&middot\;&nbsp\;Everything else (GoDaddy.com\, Hostgator\, BlueHost\, 1and1.com)</li>\n</ul>\n\n<p style="box-sizing: border-box\; margin-top: 0px\; margin-bottom: 1.75em\; widows: 3\; orphans: 3\; color: rgb(20\, 20\, 20)\; font-family: Montserrat\, sans-serif\; font-size: 16px\;">&nbsp\;Discover the advantages and limitations of templates\, as well as customizations and support.</p>\n\n<p style="box-sizing: border-box\; margin-top: 0px\; margin-bottom: 1.75em\; widows: 3\; orphans: 3\; color: rgb(20\, 20\, 20)\; font-family: Montserrat\, sans-serif\; font-size: 16px\;">Matthew Upton is a WordPress expert with over 30 years of experience in graphic design\, multimedia\, and web development. He has been involved in several startup businesses\, including one that went public. His ongoing love of building websites has developed into exploring all things Internet\, including digital marketing and&nbsp\;</p>\n<br />\nLearn more at:&nbsp\;<a href="https://riograndevalley.score.org/event/which-website-platform-best-you-and-your-business">https://riograndevalley.score.org/event/which-website-platform-best-you-and-your-business</a>
LOCATION:Online Event
UID:e.1244.19720
SEQUENCE:3
DTSTAMP:20260422T103502Z
URL:https://business.weslaco.com/events/details/rgv-score-which-website-platform-is-best-for-you-and-your-business-19720
END:VEVENT

END:VCALENDAR
