BEGIN:VCALENDAR
VERSION:2.0
PRODID:-//ChamberMaster//Event Calendar 2.0//EN
METHOD:PUBLISH
X-PUBLISHED-TTL:P3D
REFRESH-INTERVAL:P3D
CALSCALE:GREGORIAN
BEGIN:VEVENT
DTSTART:20191203T150000Z
DTEND:20191203T170000Z
X-MICROSOFT-CDO-ALLDAYEVENT:FALSE
SUMMARY:RGV Sugar Growers Informational Presentation
DESCRIPTION:Join us for an information session on the RGV Sugar Growers! Our presenter will be Mr. Dale Kerstetter\, Environmental and Safety Director at RGV Sugar Growers.  Come learn about the history and impact that the growth of sugar can has had on our region!
X-ALT-DESC;FMTTYPE=text/html:Join us for an information session on the RGV Sugar Growers! Our presenter will be Mr. Dale Kerstetter\, Environmental and Safety Director at RGV Sugar Growers.&nbsp\; Come learn about the history and impact that the growth of sugar can has had on our region!&nbsp\;&nbsp\;
LOCATION:Weslaco Chamber of Commerce Business Visitors and Event Center 275 S. Kansas\, Weslaco TX 78596 Conference Room B
UID:e.1244.18838
SEQUENCE:3
DTSTAMP:20260419T234041Z
URL:https://business.weslaco.com/events/details/rgv-sugar-growers-informational-presentation-18838
END:VEVENT

END:VCALENDAR
