BEGIN:VCALENDAR
VERSION:2.0
PRODID:-//ChamberMaster//Event Calendar 2.0//EN
METHOD:PUBLISH
X-PUBLISHED-TTL:P3D
REFRESH-INTERVAL:P3D
CALSCALE:GREGORIAN
BEGIN:VEVENT
DTSTART:20140605T230000Z
DTEND:20140606T010000Z
X-MICROSOFT-CDO-ALLDAYEVENT:FALSE
SUMMARY:RGV Team In Training Social Sponsored by RGVision
DESCRIPTION:Have you ever wanted to do a half/full marathon? Are you a TNT Alumni and have been missing your running buddies? Join TNT for a cocktail or two! What better way to learn more about TNT or catch up and reminisce about your experience than by joining us for Happy Hour? Live Music A big thank you to RGVision for hosting this event and chosing LLS as their charity of choice. Dr. Raul Marquez will be honored as well for his contribution to the community. Your purchased ticket enters you into a raffle to win an IPad. Friends and Family are welcome to join! Let's get everyone out there!
X-ALT-DESC;FMTTYPE=text/html:Have you ever wanted to do a half/full marathon? Are you a TNT Alumni and have been missing your running buddies? Join TNT for a cocktail or two! What better way to learn more about TNT or catch up and reminisce about your experience than by joining us for Happy Hour? Live Music A big thank you to RGVision for hosting this event and chosing LLS as their charity of choice. Dr. Raul Marquez will be honored as well for his contribution to the community. Your purchased ticket enters you into a raffle to win an IPad. Friends and Family are welcome to join! Let&#39\;s get everyone out there!
LOCATION:Infusions 701 N Main Street McAllen\, TX 78501
UID:e.1244.5903
SEQUENCE:3
DTSTAMP:20260424T122751Z
URL:https://business.weslaco.com/events/details/rgv-team-in-training-social-sponsored-by-rgvision-06-05-2014-5903
END:VEVENT

END:VCALENDAR
