BEGIN:VCALENDAR
VERSION:2.0
PRODID:-//ChamberMaster//Event Calendar 2.0//EN
METHOD:PUBLISH
X-PUBLISHED-TTL:P3D
REFRESH-INTERVAL:P3D
CALSCALE:GREGORIAN
BEGIN:VEVENT
DTSTART:20170223T160000Z
DTEND:20170223T170000Z
X-MICROSOFT-CDO-ALLDAYEVENT:FALSE
SUMMARY:RGV Training for Technology Licenses Ribbon Cutting
DESCRIPTION:
X-ALT-DESC;FMTTYPE=text/html:
LOCATION:615 S. International Blvd. Weslaco\, TX
UID:e.1244.11536
SEQUENCE:3
DTSTAMP:20260422T083748Z
URL:https://business.weslaco.com/events/details/rgv-training-for-technology-licenses-ribbon-cutting-11536
END:VEVENT

END:VCALENDAR
