BEGIN:VCALENDAR
VERSION:2.0
PRODID:-//ChamberMaster//Event Calendar 2.0//EN
METHOD:PUBLISH
X-PUBLISHED-TTL:P3D
REFRESH-INTERVAL:P3D
CALSCALE:GREGORIAN
BEGIN:VEVENT
DTSTART;VALUE=DATE:20220927
DTEND;VALUE=DATE:20220928
TRANSP:TRANSPARENT
X-MICROSOFT-CDO-ALLDAYEVENT:TRUE
SUMMARY:Ribbon Cutting Event
DESCRIPTION:We are celebrating our relocation into a new community\, please come join us as we introduce ourselves to the neighborhood.
X-ALT-DESC;FMTTYPE=text/html:We are celebrating our relocation into a new community\, please come join us as we introduce ourselves to the neighborhood.
LOCATION:411 N Texas Blvd Weslaco\, Texas 78596
UID:e.1244.21756
SEQUENCE:3
DTSTAMP:20260421T090429Z
URL:https://business.weslaco.com/events/details/ribbon-cutting-event-21756
END:VEVENT

END:VCALENDAR
