BEGIN:VCALENDAR
VERSION:2.0
PRODID:-//ChamberMaster//Event Calendar 2.0//EN
METHOD:PUBLISH
X-PUBLISHED-TTL:P3D
REFRESH-INTERVAL:P3D
CALSCALE:GREGORIAN
BEGIN:VEVENT
DTSTART:20210330T150000Z
DTEND:20210330T160000Z
X-MICROSOFT-CDO-ALLDAYEVENT:FALSE
SUMMARY:Ribbon Cutting: Schlotzsky's
DESCRIPTION:Join us for a Ribbon Cutting!
X-ALT-DESC;FMTTYPE=text/html:Join us for a Ribbon Cutting!&nbsp\;
LOCATION:1402 N. Westgate Dr. Weslaco\, TX
UID:e.1244.19557
SEQUENCE:3
DTSTAMP:20260422T164624Z
URL:https://business.weslaco.com/events/details/ribbon-cutting-schlotzsky-s-19557
END:VEVENT

END:VCALENDAR
