BEGIN:VCALENDAR
VERSION:2.0
PRODID:-//ChamberMaster//Event Calendar 2.0//EN
METHOD:PUBLISH
X-PUBLISHED-TTL:P3D
REFRESH-INTERVAL:P3D
CALSCALE:GREGORIAN
BEGIN:VEVENT
DTSTART:20210513T160000Z
DTEND:20210513T170000Z
X-MICROSOFT-CDO-ALLDAYEVENT:FALSE
SUMMARY:Ribbon Cutting: South Texas Health Systems ER Weslaco
DESCRIPTION:
X-ALT-DESC;FMTTYPE=text/html:
LOCATION:
UID:e.1244.19567
SEQUENCE:3
DTSTAMP:20260422T121951Z
URL:https://business.weslaco.com/events/details/ribbon-cutting-south-texas-health-systems-er-weslaco-19567
END:VEVENT

END:VCALENDAR
